BEGIN:VCALENDAR
PRODID:-//AT Content Types//AT Event//EN
VERSION:2.0
METHOD:PUBLISH
BEGIN:VEVENT
DTSTAMP:20260419T222157Z
CREATED:20260330T111221Z
UID:ATEvent-3bb06e1a-f3ca-4227-99eb-d4ef831a92da
LAST-MODIFIED:20260330T111250Z
SUMMARY:Estiu | Summer week. Cinema
DTSTART:20260810T094500Z
DTEND:20260814T114500Z
CONTACT:977296251
CLASS:PUBLIC
END:VEVENT
END:VCALENDAR
