BEGIN:VCALENDAR
PRODID:-//AT Content Types//AT Event//EN
VERSION:2.0
METHOD:PUBLISH
BEGIN:VEVENT
DTSTAMP:20260423T000304Z
CREATED:20260402T153141Z
UID:ATEvent-6debf307-7097-49f3-bf2f-754ef839db52
LAST-MODIFIED:20260402T153153Z
SUMMARY:Estiu | Summer Week. Curs de monitor/a de menjador
DTSTART:20260706T130000Z
DTEND:20260716T170000Z
CONTACT:977296251
CLASS:PUBLIC
END:VEVENT
END:VCALENDAR
