BEGIN:VCALENDAR
PRODID:-//AT Content Types//AT Event//EN
VERSION:1.0
BEGIN:VEVENT
DTSTART:20260713T080000Z
DTEND:20260717T100000Z
DCREATED:20260330T085040Z
UID:ATEvent-b9afed11-c43b-4567-b29f-6e3f192ddff7
SEQUENCE:0
LAST-MODIFIED:20260330T085327Z
SUMMARY:Estiu | Summer Week. Educació. Tria el teu camí!
PRIORITY:3
TRANSP:0
END:VEVENT
END:VCALENDAR
