BEGIN:VCALENDAR
PRODID:-//AT Content Types//AT Event//EN
VERSION:2.0
METHOD:PUBLISH
BEGIN:VEVENT
DTSTAMP:20260419T192636Z
CREATED:20260330T074830Z
UID:ATEvent-fdbe62ce-1406-4c5e-a9c1-c9cfe0d0aa64
LAST-MODIFIED:20260330T074921Z
SUMMARY:Estiu | Summer Week. Escriptura creativa Torn 1
DTSTART:20260706T080000Z
DTEND:20260710T100000Z
CONTACT:977296251
CLASS:PUBLIC
END:VEVENT
END:VCALENDAR
