BEGIN:VCALENDAR
PRODID:-//AT Content Types//AT Event//EN
VERSION:1.0
BEGIN:VEVENT
DTSTART:20260727T083000Z
DTEND:20260731T103000Z
DCREATED:20260330T093300Z
UID:ATEvent-308d78af-f169-4097-a240-ebeea615ca0d
SEQUENCE:0
LAST-MODIFIED:20260330T093457Z
SUMMARY:Estiu | Summer Week. Iniciació a l’harmònica
PRIORITY:3
TRANSP:0
END:VEVENT
END:VCALENDAR
