BEGIN:VCALENDAR
PRODID:-//AT Content Types//AT Event//EN
VERSION:1.0
BEGIN:VEVENT
DTSTART:20260720T083000Z
DTEND:20260724T103000Z
DCREATED:20260330T090323Z
UID:ATEvent-622d18ca-725e-4190-96bc-7ba268e71f8f
SEQUENCE:0
LAST-MODIFIED:20260330T090407Z
SUMMARY:Estiu | Summer Week. Iniciació a l’ukelele
PRIORITY:3
TRANSP:0
END:VEVENT
END:VCALENDAR
