BEGIN:VCALENDAR
PRODID:-//AT Content Types//AT Event//EN
VERSION:1.0
BEGIN:VEVENT
DTSTART:20260720T140000Z
DTEND:20260724T160000Z
DCREATED:20260330T110735Z
UID:ATEvent-b2293fb1-7f72-4ce6-bf51-8c3bf36c53f2
SEQUENCE:0
LAST-MODIFIED:20260330T110844Z
SUMMARY:Estiu  | Summer Week. Iniciació a la llengua japonesa. Torn 1
PRIORITY:3
TRANSP:0
END:VEVENT
END:VCALENDAR
