BEGIN:VCALENDAR
PRODID:-//AT Content Types//AT Event//EN
VERSION:2.0
METHOD:PUBLISH
BEGIN:VEVENT
DTSTAMP:20260419T235629Z
CREATED:20260330T105710Z
UID:ATEvent-03cce5eb-0a7c-4ad7-a9cb-a0ca304d2aba
LAST-MODIFIED:20260330T105741Z
SUMMARY:Estiu | Summer Week. Iniciació al Kpop
DTSTART:20260803T090000Z
DTEND:20260807T110000Z
CONTACT:977296251
CLASS:PUBLIC
END:VEVENT
END:VCALENDAR
