BEGIN:VCALENDAR
PRODID:-//AT Content Types//AT Event//EN
VERSION:1.0
BEGIN:VEVENT
DTSTART:20260720T150000Z
DTEND:20260724T170000Z
DCREATED:20260330T091439Z
UID:ATEvent-a8107eb0-ca2a-40f6-bb3d-157d528c9a8a
SEQUENCE:0
LAST-MODIFIED:20260402T151409Z
SUMMARY:Estiu | Summer Week. Iniciació al teatre (adolescents)
PRIORITY:3
TRANSP:0
END:VEVENT
END:VCALENDAR
