BEGIN:VCALENDAR
PRODID:-//AT Content Types//AT Event//EN
VERSION:1.0
BEGIN:VEVENT
DTSTART:20260810T071500Z
DTEND:20260814T091500Z
DCREATED:20260330T091800Z
UID:ATEvent-54be001d-7240-494d-91b5-7eeab5dca165
SEQUENCE:0
LAST-MODIFIED:20260402T173405Z
SUMMARY:Estiu | Summer Week. Iniciació al teatre
PRIORITY:3
TRANSP:0
END:VEVENT
END:VCALENDAR
