BEGIN:VCALENDAR
PRODID:-//AT Content Types//AT Event//EN
VERSION:2.0
METHOD:PUBLISH
BEGIN:VEVENT
DTSTAMP:20260419T192839Z
CREATED:20260330T090948Z
UID:ATEvent-f9599979-f2e8-45bd-b25e-31ddc71cd912
LAST-MODIFIED:20260330T091025Z
SUMMARY:Estiu | Summer Week. Link a dogs
DTSTART:20260720T070000Z
DTEND:20260724T100000Z
CONTACT:977296251
CLASS:PUBLIC
END:VEVENT
END:VCALENDAR
