BEGIN:VCALENDAR
PRODID:-//AT Content Types//AT Event//EN
VERSION:2.0
METHOD:PUBLISH
BEGIN:VEVENT
DTSTAMP:20260419T192931Z
CREATED:20260330T075850Z
UID:ATEvent-431e2046-300a-45df-838c-1eaef66dbc12
LAST-MODIFIED:20260330T075904Z
SUMMARY:Estiu | Summer Week. Radio i podcast
DTSTART:20260713T140000Z
DTEND:20260717T160000Z
CONTACT:977296251
CLASS:PUBLIC
END:VEVENT
END:VCALENDAR
