BEGIN:VCALENDAR
PRODID:-//AT Content Types//AT Event//EN
VERSION:2.0
METHOD:PUBLISH
BEGIN:VEVENT
DTSTAMP:20260419T193054Z
CREATED:20260330T074455Z
UID:ATEvent-96cdc810-a236-4725-8135-cb1a652c8087
LAST-MODIFIED:20260330T074505Z
SUMMARY:Estiu | Summer Week. Renéixer tèxtil\: Re-crea la teva roba
DTSTART:20260706T083000Z
DTEND:20260710T103000Z
CONTACT:977296251
CLASS:PUBLIC
END:VEVENT
END:VCALENDAR
