BEGIN:VCALENDAR
PRODID:-//AT Content Types//AT Event//EN
VERSION:2.0
METHOD:PUBLISH
BEGIN:VEVENT
DTSTAMP:20260419T192714Z
CREATED:20260330T092038Z
UID:ATEvent-e7e4532c-882f-4bdd-96ba-f1ffdf80be8a
LAST-MODIFIED:20260331T205514Z
SUMMARY:Estiu | Summer week. SteamLab
DTSTART:20260720T143000Z
DTEND:20260724T173000Z
CONTACT:977296251
CLASS:PUBLIC
END:VEVENT
END:VCALENDAR
