BEGIN:VCALENDAR
PRODID:-//AT Content Types//AT Event//EN
VERSION:1.0
BEGIN:VEVENT
DTSTART:20260713T083000Z
DTEND:20260717T103000Z
DCREATED:20260330T075445Z
UID:ATEvent-9a00d907-c1ee-4192-8092-d8505b3b8c3b
SEQUENCE:0
LAST-MODIFIED:20260330T075500Z
SUMMARY:Estiu | Summer Week. Videocurrículum i marca personal
PRIORITY:3
TRANSP:0
END:VEVENT
END:VCALENDAR
