BEGIN:VCALENDAR
PRODID:-//AT Content Types//AT Event//EN
VERSION:2.0
METHOD:PUBLISH
BEGIN:VEVENT
DTSTAMP:20260419T235719Z
CREATED:20260330T074126Z
UID:ATEvent-a1b1ff8c-9eae-40e2-a210-1536bd82806f
LAST-MODIFIED:20260330T074141Z
SUMMARY:Estiu | Summer Week. Viu Europa. Oportunitats de mobilitat internacional per a joves
DTSTART:20260706T090000Z
DTEND:20260710T110000Z
CONTACT:977296251
CLASS:PUBLIC
END:VEVENT
END:VCALENDAR
