BEGIN:VCALENDAR
PRODID:-//AT Content Types//AT Event//EN
VERSION:2.0
METHOD:PUBLISH
BEGIN:VEVENT
DTSTAMP:20260419T192605Z
CREATED:20260330T104707Z
UID:ATEvent-49f8b47d-329b-47b9-9c59-e4d4d7ac9ed0
LAST-MODIFIED:20260331T205842Z
SUMMARY:Estiu | Summerweek Intel.ligència Artificial
DTSTART:20260727T080000Z
DTEND:20260731T110000Z
CONTACT:977296251
CLASS:PUBLIC
END:VEVENT
END:VCALENDAR
