BEGIN:VCALENDAR
PRODID:-//AT Content Types//AT Event//EN
VERSION:2.0
METHOD:PUBLISH
BEGIN:VEVENT
DTSTAMP:20260419T192606Z
CREATED:20260330T092152Z
UID:ATEvent-a2737bf2-2b8c-419c-b0e5-c81c5a680512
LAST-MODIFIED:20260330T092554Z
SUMMARY:Estiu  | Summerweek. Sailing
DTSTART:20260727T070000Z
DTEND:20260731T120000Z
CONTACT:977296251
CLASS:PUBLIC
END:VEVENT
END:VCALENDAR
