BEGIN:VCALENDAR
PRODID:-//AT Content Types//AT Event//EN
VERSION:2.0
METHOD:PUBLISH
BEGIN:VEVENT
DTSTAMP:20260421T132217Z
CREATED:20260421T091400Z
UID:ATEvent-2552c030-fc5a-43a8-9cd5-0194b2ba92bb
LAST-MODIFIED:20260421T103222Z
SUMMARY:Fem un rangoli i viatgem a l’Índia
DTSTART:20260430T150000Z
DTEND:20260430T170000Z
CONTACT:977296251
CLASS:PUBLIC
END:VEVENT
END:VCALENDAR
