BEGIN:VCALENDAR
PRODID:-//AT Content Types//AT Event//EN
VERSION:2.0
METHOD:PUBLISH
BEGIN:VEVENT
DTSTAMP:20260421T113053Z
CREATED:20260421T081951Z
UID:ATEvent-7596a596-017b-4b8b-b390-267a3aa74b61
LAST-MODIFIED:20260421T102534Z
SUMMARY:Gravat amb linòleum
DTSTART:20260425T153000Z
DTEND:20260425T183000Z
CONTACT:977296251
CLASS:PUBLIC
END:VEVENT
END:VCALENDAR
