BEGIN:VCALENDAR
PRODID:-//AT Content Types//AT Event//EN
VERSION:2.0
METHOD:PUBLISH
BEGIN:VEVENT
DTSTAMP:20260421T132034Z
CREATED:20260421T084922Z
UID:ATEvent-d8ebbc67-7b91-4303-865b-d0d08ac3521c
LAST-MODIFIED:20260421T102835Z
SUMMARY:Guia pràctica per trobar feina a l’estiu
DTSTART:20260429T080000Z
DTEND:20260429T110000Z
CONTACT:977296251
CLASS:PUBLIC
END:VEVENT
END:VCALENDAR
