BEGIN:VCALENDAR
PRODID:-//AT Content Types//AT Event//EN
VERSION:1.0
BEGIN:VEVENT
DTSTART:20260428T153000Z
DTEND:20260428T170000Z
DCREATED:20260421T083726Z
UID:ATEvent-ec5dd140-0c6d-453a-8659-cca0247e2bdb
SEQUENCE:0
LAST-MODIFIED:20260421T103415Z
SUMMARY:Idees pels “Yo pongo”
PRIORITY:3
TRANSP:0
END:VEVENT
END:VCALENDAR
