BEGIN:VCALENDAR
PRODID:-//AT Content Types//AT Event//EN
VERSION:1.0
BEGIN:VEVENT
DTSTART:20260523T070000Z
DTEND:20260523T120000Z
DCREATED:20260218T121631Z
UID:ATEvent-ffa74a26-69b2-4ee2-9c58-58205ca3e643
SEQUENCE:0
LAST-MODIFIED:20260316T094133Z
SUMMARY:Il·lustració de natura
PRIORITY:3
TRANSP:0
END:VEVENT
END:VCALENDAR
