BEGIN:VCALENDAR
PRODID:-//AT Content Types//AT Event//EN
VERSION:1.0
BEGIN:VEVENT
DTSTART:20260513T153000Z
DTEND:20260513T170000Z
DCREATED:20260421T113519Z
UID:ATEvent-d42f9efa-f548-4acd-ab4b-feae4f3ee301
SEQUENCE:0
LAST-MODIFIED:20260421T113540Z
SUMMARY:Just dance | Espai LGBTI+
PRIORITY:3
TRANSP:0
END:VEVENT
END:VCALENDAR
