BEGIN:VCALENDAR
PRODID:-//AT Content Types//AT Event//EN
VERSION:2.0
METHOD:PUBLISH
BEGIN:VEVENT
DTSTAMP:20260421T144245Z
CREATED:20260421T102318Z
UID:ATEvent-a1e83560-e67a-42d9-9fce-50b73eeac9b8
LAST-MODIFIED:20260421T102349Z
SUMMARY:No he aconseguit entrar a cicles formatius… i ara què?
DTSTART:20260507T080000Z
DTEND:20260507T110000Z
CONTACT:977296251
CLASS:PUBLIC
END:VEVENT
END:VCALENDAR
