BEGIN:VCALENDAR
PRODID:-//AT Content Types//AT Event//EN
VERSION:1.0
BEGIN:VEVENT
DTSTART:20260421T112000Z
DTEND:20260421T112000Z
DCREATED:20260421T112359Z
UID:ATEvent-8f4a5ed7-f5ef-44fa-8bd0-820ad1d8cdba
SEQUENCE:0
LAST-MODIFIED:20260421T112609Z
SUMMARY:Pastissos saludables
PRIORITY:3
TRANSP:0
END:VEVENT
END:VCALENDAR
