BEGIN:VCALENDAR
PRODID:-//AT Content Types//AT Event//EN
VERSION:2.0
METHOD:PUBLISH
BEGIN:VEVENT
DTSTAMP:20260422T122039Z
CREATED:20260422T085629Z
UID:ATEvent-39d2cce7-75c9-44a0-a876-f4a36fe02660
LAST-MODIFIED:20260422T085642Z
SUMMARY:Polseres amb estil
DTSTART:20260520T153000Z
DTEND:20260520T170000Z
CONTACT:977296251
CLASS:PUBLIC
END:VEVENT
END:VCALENDAR
