BEGIN:VCALENDAR
PRODID:-//AT Content Types//AT Event//EN
VERSION:1.0
BEGIN:VEVENT
DTSTART:20260516T153000Z
DTEND:20260516T170000Z
DCREATED:20260422T083410Z
UID:ATEvent-31a25116-09bb-48bd-8b74-c1a79e74a831
SEQUENCE:0
LAST-MODIFIED:20260422T084557Z
SUMMARY:Posagots personalitzats
PRIORITY:3
TRANSP:0
END:VEVENT
END:VCALENDAR
