BEGIN:VCALENDAR
PRODID:-//AT Content Types//AT Event//EN
VERSION:2.0
METHOD:PUBLISH
BEGIN:VEVENT
DTSTAMP:20260422T171512Z
CREATED:20260422T112228Z
UID:ATEvent-c5f4d77a-d899-4818-bf27-157a85a3873b
LAST-MODIFIED:20260422T112238Z
SUMMARY:Practiquem l’entrevista de feina!
DTSTART:20260527T080000Z
DTEND:20260527T110000Z
CONTACT:977296251
CLASS:PUBLIC
END:VEVENT
END:VCALENDAR
