BEGIN:VCALENDAR
PRODID:-//AT Content Types//AT Event//EN
VERSION:1.0
BEGIN:VEVENT
DTSTART:20260523T180000Z
DTEND:20260523T190000Z
DCREATED:20260422T095212Z
UID:ATEvent-752a44c7-d328-4576-9910-159e2f868fc4
SEQUENCE:0
LAST-MODIFIED:20260422T103525Z
SUMMARY:Què se jo? amb Bewis de la Rosa
PRIORITY:3
TRANSP:0
END:VEVENT
END:VCALENDAR
