BEGIN:VCALENDAR
PRODID:-//AT Content Types//AT Event//EN
VERSION:2.0
METHOD:PUBLISH
BEGIN:VEVENT
DTSTAMP:20260421T131620Z
CREATED:20260421T085713Z
UID:ATEvent-e8e1fd6c-bfc0-497d-ae31-d7237e886f30
LAST-MODIFIED:20260421T103009Z
SUMMARY:Riu sense parar
DTSTART:20260429T153000Z
DTEND:20260429T170000Z
CONTACT:977296251
CLASS:PUBLIC
END:VEVENT
END:VCALENDAR
