BEGIN:VCALENDAR
PRODID:-//AT Content Types//AT Event//EN
VERSION:1.0
BEGIN:VEVENT
DTSTART:20260530T070000Z
DTEND:20260530T120000Z
DCREATED:20260218T121847Z
UID:ATEvent-301a3509-ea3b-40ca-807a-e337567a3627
SEQUENCE:0
LAST-MODIFIED:20260316T094143Z
SUMMARY:Ruta a cavall
PRIORITY:3
TRANSP:0
END:VEVENT
END:VCALENDAR
