BEGIN:VCALENDAR
PRODID:-//AT Content Types//AT Event//EN
VERSION:2.0
METHOD:PUBLISH
BEGIN:VEVENT
DTSTAMP:20260421T132227Z
CREATED:20260421T090559Z
UID:ATEvent-01876561-8eba-4a44-accd-3e533b0c12ce
LAST-MODIFIED:20260421T103117Z
SUMMARY:Taller “Properament en el teu quiosc” – José y sus hermanas
DTSTART:20260429T150000Z
DTEND:20260429T190000Z
CONTACT:977296251
CLASS:PUBLIC
END:VEVENT
END:VCALENDAR
