BEGIN:VCALENDAR
PRODID:-//AT Content Types//AT Event//EN
VERSION:1.0
BEGIN:VEVENT
DTSTART:20260522T153000Z
DTEND:20260522T170000Z
DCREATED:20260422T091021Z
UID:ATEvent-0426a87f-3413-4dbd-9f01-4b1e71a1a25e
SEQUENCE:0
LAST-MODIFIED:20260422T092020Z
SUMMARY:Taller d’iniciació a la màgia
PRIORITY:3
TRANSP:0
END:VEVENT
END:VCALENDAR
