BEGIN:VCALENDAR
PRODID:-//AT Content Types//AT Event//EN
VERSION:2.0
METHOD:PUBLISH
BEGIN:VEVENT
DTSTAMP:20260422T122038Z
CREATED:20260422T082133Z
UID:ATEvent-6f1bd8fb-db87-4283-a0f2-a5f522402c42
LAST-MODIFIED:20260422T082206Z
SUMMARY:Taller de MLC (Mètode d’Alliberament de Cuirasses)
DTSTART:20260516T080000Z
DTEND:20260516T130000Z
CONTACT:977296251
CLASS:PUBLIC
END:VEVENT
END:VCALENDAR
