BEGIN:VCALENDAR
PRODID:-//AT Content Types//AT Event//EN
VERSION:2.0
METHOD:PUBLISH
BEGIN:VEVENT
DTSTAMP:20260421T150039Z
CREATED:20260421T105551Z
UID:ATEvent-58a4b2bf-d162-4c69-89ff-344c6b0f3409
LAST-MODIFIED:20260421T105603Z
SUMMARY:Taller de stand-up comedy
DTSTART:20260508T150000Z
DTEND:20260508T170000Z
CONTACT:977296251
CLASS:PUBLIC
END:VEVENT
END:VCALENDAR
