BEGIN:VCALENDAR
PRODID:-//AT Content Types//AT Event//EN
VERSION:1.0
BEGIN:VEVENT
DTSTART:20260523T080000Z
DTEND:20260524T130000Z
DCREATED:20260422T101024Z
UID:ATEvent-cf08ab9f-bc93-4192-9c10-d31684b93a75
SEQUENCE:0
LAST-MODIFIED:20260422T105242Z
SUMMARY:Taller Mueve tu gatx. Investigació en dansa\, teatre físic i accions performatives
PRIORITY:3
TRANSP:0
END:VEVENT
END:VCALENDAR
