BEGIN:VCALENDAR
PRODID:-//AT Content Types//AT Event//EN
VERSION:1.0
BEGIN:VEVENT
DTSTART:20260526T153000Z
DTEND:20260526T170000Z
DCREATED:20260422T104953Z
UID:ATEvent-92f1630f-8784-4212-9a2a-2c09e94de597
SEQUENCE:0
LAST-MODIFIED:20260422T105126Z
SUMMARY:Temps d’amanides
PRIORITY:3
TRANSP:0
END:VEVENT
END:VCALENDAR
