BEGIN:VCALENDAR
PRODID:-//AT Content Types//AT Event//EN
VERSION:2.0
METHOD:PUBLISH
BEGIN:VEVENT
DTSTAMP:20260423T195141Z
CREATED:20260216T103435Z
UID:ATEvent-1b935504-ec49-4a45-91b1-136febc9a3b4
LAST-MODIFIED:20260217T095801Z
SUMMARY:Conferència “From the north to the north”\, amb Aymar Navarro
DTSTART:20260326T180000Z
DTEND:20260326T193000Z
CATEGORIES:Ciutadania
CLASS:PUBLIC
END:VEVENT
END:VCALENDAR
