BEGIN:VCALENDAR
PRODID:-//AT Content Types//AT Event//EN
VERSION:1.0
BEGIN:VEVENT
DTSTART:20260319T180000Z
DTEND:20260319T193000Z
DCREATED:20260216T103435Z
UID:ATEvent-9df6f6fc-cf88-4048-9aa5-cc463bac530f
SEQUENCE:0
LAST-MODIFIED:20260217T095744Z
SUMMARY:Conferència “Motivades\, 25 anys d’escalada femenina”\, amb Cecilia Buïl
PRIORITY:3
TRANSP:0
END:VEVENT
END:VCALENDAR
