BEGIN:VCALENDAR
PRODID:-//AT Content Types//AT Event//EN
VERSION:1.0
BEGIN:VEVENT
DTSTART:20260305T180000Z
DTEND:20260305T193000Z
DCREATED:20260216T103435Z
UID:ATEvent-6bda4295-bc4e-465a-9d4f-86bf1e492011
SEQUENCE:0
LAST-MODIFIED:20260217T095648Z
SUMMARY:Conferència “Vertigen”\, amb Estel Parés
PRIORITY:3
TRANSP:0
END:VEVENT
END:VCALENDAR
