BEGIN:VCALENDAR
PRODID:-//AT Content Types//AT Event//EN
VERSION:1.0
BEGIN:VEVENT
DTSTART:20260401T080000Z
DTEND:20260406T190000Z
DCREATED:20260331T060559Z
UID:ATEvent-147f830b-fb00-4793-99c2-0a8248afcd1c
SEQUENCE:0
LAST-MODIFIED:20260331T070029Z
SUMMARY:2a Fira de Pasqua
PRIORITY:3
TRANSP:0
END:VEVENT
END:VCALENDAR
