BEGIN:VCALENDAR
PRODID:-//AT Content Types//AT Event//EN
VERSION:2.0
METHOD:PUBLISH
BEGIN:VEVENT
DTSTAMP:20260423T195340Z
CREATED:20260310T083500Z
UID:ATEvent-dc9929b0-dc0f-4ca1-9db8-931e774e112c
LAST-MODIFIED:20260313T094854Z
SUMMARY:Inauguració de l'exposició “Negrets i negretes. La Setmana Santa des de dins"
DTSTART:20260315T110000Z
DTEND:20260315T120000Z
CATEGORIES:Cultura,Setmana Santa
CLASS:PUBLIC
END:VEVENT
END:VCALENDAR
