BEGIN:VCALENDAR
PRODID:-//AT Content Types//AT Event//EN
VERSION:2.0
METHOD:PUBLISH
BEGIN:VEVENT
DTSTAMP:20260423T184024Z
CREATED:20260310T083500Z
UID:ATEvent-88a78855-d813-4b76-82a5-e2d1d6b21de6
LAST-MODIFIED:20260314T084810Z
SUMMARY:Professó de l'Entrada de Jesús a Jerusalem
DTSTART:20260329T150000Z
DTEND:20260329T163000Z
CATEGORIES:Cultura,Setmana Santa
CLASS:PUBLIC
END:VEVENT
END:VCALENDAR
