BEGIN:VCALENDAR
PRODID:-//AT Content Types//AT Event//EN
VERSION:2.0
METHOD:PUBLISH
BEGIN:VEVENT
DTSTAMP:20260423T195134Z
CREATED:20260310T083500Z
UID:ATEvent-7a28eea2-bd19-40df-8333-edc8a9cf7c16
LAST-MODIFIED:20260313T095026Z
SUMMARY:Trasllat del pas de l'Entrada de Jesús a Jerusalem
DTSTART:20260328T160000Z
DTEND:20260328T170000Z
CATEGORIES:Cultura,Setmana Santa
CLASS:PUBLIC
END:VEVENT
END:VCALENDAR
