BEGIN:VCALENDAR
PRODID:-//AT Content Types//AT Event//EN
VERSION:1.0
BEGIN:VEVENT
DTSTART:20260401T153000Z
DTEND:20260401T161500Z
DCREATED:20260310T083500Z
UID:ATEvent-f2f8fa7c-f24d-4a74-bd2b-e27b52cef27a
SEQUENCE:0
LAST-MODIFIED:20260313T094658Z
SUMMARY:Trasllat dels passos de la professó del Dolor
PRIORITY:3
TRANSP:0
END:VEVENT
END:VCALENDAR
