BEGIN:VCALENDAR
PRODID:-//AT Content Types//AT Event//EN
VERSION:1.0
BEGIN:VEVENT
DTSTART:20241201T090000Z
DTEND:20241201T113000Z
DCREATED:20241016T082332Z
UID:ATEvent-19d2166e-353e-4258-82f8-d5a6516667ee
SEQUENCE:0
LAST-MODIFIED:20250108T091127Z
SUMMARY:Els Bàrbars del Nord
PRIORITY:3
TRANSP:0
END:VEVENT
END:VCALENDAR
