BEGIN:VCALENDAR
PRODID:-//AT Content Types//AT Event//EN
VERSION:2.0
METHOD:PUBLISH
BEGIN:VEVENT
DTSTAMP:20260422T045353Z
CREATED:20260312T063139Z
UID:ATEvent-87777012-506b-48f8-828d-6b8120becdb2
LAST-MODIFIED:20260313T071502Z
SUMMARY:Caminant sobre la Mina de l’Arquebisbe
DTSTART:20260321T080000Z
DTEND:20260321T113000Z
CATEGORIES:Patrimoni
CLASS:PUBLIC
END:VEVENT
END:VCALENDAR
