BEGIN:VCALENDAR
PRODID:-//AT Content Types//AT Event//EN
VERSION:1.0
BEGIN:VEVENT
DTSTART:20260222T100000Z
DTEND:20260222T113000Z
DCREATED:20250912T121105Z
UID:ATEvent-a39b7bce-9109-49c2-8bba-9fb8ccbd64f2
SEQUENCE:0
LAST-MODIFIED:20260130T072119Z
SUMMARY:Visita guiada a la Pedrera del Mèdol
PRIORITY:3
TRANSP:0
END:VEVENT
END:VCALENDAR
