BEGIN:VCALENDAR
PRODID:-//AT Content Types//AT Event//EN
VERSION:1.0
BEGIN:VEVENT
DTSTART:20260516T173000Z
DTEND:20260516T210000Z
DCREATED:20260420T064434Z
UID:ATEvent-a168799a-6ae3-488e-8f4e-3188b8ed6234
SEQUENCE:0
LAST-MODIFIED:20260420T064722Z
SUMMARY:Nit de Museus\: Mapping Tàrraco
PRIORITY:3
TRANSP:0
END:VEVENT
END:VCALENDAR
